BEGIN:VCALENDAR
VERSION:2.0
PRODID:-//Abgeordneter Thomas Röckemann - ECPv6.15.20//NONSGML v1.0//EN
CALSCALE:GREGORIAN
METHOD:PUBLISH
X-ORIGINAL-URL:https://thomas-roeckemann.de
X-WR-CALDESC:Veranstaltungen für Abgeordneter Thomas Röckemann
REFRESH-INTERVAL;VALUE=DURATION:PT1H
X-Robots-Tag:noindex
X-PUBLISHED-TTL:PT1H
BEGIN:VTIMEZONE
TZID:Europe/Berlin
BEGIN:DAYLIGHT
TZOFFSETFROM:+0100
TZOFFSETTO:+0200
TZNAME:CEST
DTSTART:20200329T010000
END:DAYLIGHT
BEGIN:STANDARD
TZOFFSETFROM:+0200
TZOFFSETTO:+0100
TZNAME:CET
DTSTART:20201025T010000
END:STANDARD
BEGIN:DAYLIGHT
TZOFFSETFROM:+0100
TZOFFSETTO:+0200
TZNAME:CEST
DTSTART:20210328T010000
END:DAYLIGHT
BEGIN:STANDARD
TZOFFSETFROM:+0200
TZOFFSETTO:+0100
TZNAME:CET
DTSTART:20211031T010000
END:STANDARD
BEGIN:DAYLIGHT
TZOFFSETFROM:+0100
TZOFFSETTO:+0200
TZNAME:CEST
DTSTART:20220327T010000
END:DAYLIGHT
BEGIN:STANDARD
TZOFFSETFROM:+0200
TZOFFSETTO:+0100
TZNAME:CET
DTSTART:20221030T010000
END:STANDARD
END:VTIMEZONE
BEGIN:VEVENT
DTSTART;TZID=Europe/Berlin:20210429T182500
DTEND;TZID=Europe/Berlin:20210429T185500
DTSTAMP:20260425T160418
CREATED:20210421T171513Z
LAST-MODIFIED:20210421T171513Z
UID:15429-1619720700-1619722500@thomas-roeckemann.de
SUMMARY:Redebeitrag zum Antrag "Effektive Strafverfolgung dank grenzüberschreitender Sicherung von elektronischen Beweismitteln unter Gewährleistung deutscher Schutzstandards" der CDU und FDP
DESCRIPTION:Am Donnerstag\, den 29. April erläutere ich unter (TOP 13) unsere Position zu dem Antrag „Effektive Strafverfolgung dank grenzüberschreitender Sicherung von elektronischen Beweismitteln unter Gewährleistung deutscher Schutzstandards“ der CDU und FDP (Drucksache 17/13407). \nMeinen Redebeitrag können Sie voraussichtlich um 18:45 im Parlaments-TV verfolgen.
URL:https://thomas-roeckemann.de/veranstaltung/redebeitrag-zum-antrag-effektive-strafverfolgung-dank-grenzueberschreitender-sicherung-von-elektronischen-beweismitteln-unter-gewaehrleistung-deutscher-schutzstandards-der-cdu-und-fdp/
END:VEVENT
BEGIN:VEVENT
DTSTART;TZID=Europe/Berlin:20210429T185500
DTEND;TZID=Europe/Berlin:20210429T200500
DTSTAMP:20260425T160418
CREATED:20210421T171402Z
LAST-MODIFIED:20210421T171402Z
UID:15432-1619722500-1619726700@thomas-roeckemann.de
SUMMARY:Nicht GEZahlt\, schon GEZwungen! - Unverhältnismäßige Vollstreckungen bei ausstehenden Rundfunkbeiträgen
DESCRIPTION:Am Donnerstag\, den 29. April begründe ich im Landtag unter (TOP 14) unseren Antrag „Nicht GEZahlt\, schon GEZwungen! – Unverhältnismäßige Vollstreckungen bei ausstehenden Rundfunkbeiträgen“ (Drucksache 17/13393). Wir beantragen: \nDer Landtag stellt daher fest: \nDie Vollstreckung einer Erzwingungshaft im Rahmen der Nichtzahlung von Rundfunkbeiträgen ist unverhältnismäßig. \nDer Landtag fordert die Landesregierung auf\, \ndarauf hinzuwirken\, dass im Rundfunkbeitragsstaatsvertrag und den damit zusammenhängenden Gesetzen zukünftig die Erzwingungshaft für Beitragsschuldner ausgeschlossen wird. \nMeinen Redebeitrag können Sie voraussichtlich um 18:55 Uhr im Parlaments-TV verfolgen.
URL:https://thomas-roeckemann.de/veranstaltung/nicht-gezahlt-schon-gezwungen-unverhaeltnismaessige-vollstreckungen-bei-ausstehenden-rundfunkbeitraegen/
END:VEVENT
END:VCALENDAR