BEGIN:VCALENDAR
VERSION:2.0
PRODID:-//Abgeordneter Thomas Röckemann - ECPv6.15.20//NONSGML v1.0//EN
CALSCALE:GREGORIAN
METHOD:PUBLISH
X-ORIGINAL-URL:https://thomas-roeckemann.de
X-WR-CALDESC:Veranstaltungen für Abgeordneter Thomas Röckemann
REFRESH-INTERVAL;VALUE=DURATION:PT1H
X-Robots-Tag:noindex
X-PUBLISHED-TTL:PT1H
BEGIN:VTIMEZONE
TZID:Europe/Berlin
BEGIN:DAYLIGHT
TZOFFSETFROM:+0100
TZOFFSETTO:+0200
TZNAME:CEST
DTSTART:20200329T010000
END:DAYLIGHT
BEGIN:STANDARD
TZOFFSETFROM:+0200
TZOFFSETTO:+0100
TZNAME:CET
DTSTART:20201025T010000
END:STANDARD
BEGIN:DAYLIGHT
TZOFFSETFROM:+0100
TZOFFSETTO:+0200
TZNAME:CEST
DTSTART:20210328T010000
END:DAYLIGHT
BEGIN:STANDARD
TZOFFSETFROM:+0200
TZOFFSETTO:+0100
TZNAME:CET
DTSTART:20211031T010000
END:STANDARD
BEGIN:DAYLIGHT
TZOFFSETFROM:+0100
TZOFFSETTO:+0200
TZNAME:CEST
DTSTART:20220327T010000
END:DAYLIGHT
BEGIN:STANDARD
TZOFFSETFROM:+0200
TZOFFSETTO:+0100
TZNAME:CET
DTSTART:20221030T010000
END:STANDARD
END:VTIMEZONE
BEGIN:VEVENT
DTSTART;TZID=Europe/Berlin:20210618T134500
DTEND;TZID=Europe/Berlin:20210618T145500
DTSTAMP:20260425T122113
CREATED:20210609T171037Z
LAST-MODIFIED:20210609T171122Z
UID:15518-1624023900-1624028100@thomas-roeckemann.de
SUMMARY:Genitalverstümmelungen in NRW - Wo bleibt die Hilfe?
DESCRIPTION:Am Freitag\, den 18. Juni begründe ich im Landtag unter (TOP 6) unseren Antrag „Genitalverstümmelungen in NRW – Wo bleibt die Hilfe?“ (Drucksache 17/14063). Wir beantragen: \nDer Landtag stellt daher fest: \n\nDie Genitalverstümmelung stellt einen Sorgerechtsmissbrauch und einen eklatanten Menschenrechtsverstoß dar und ist als Akt der physischen und psychischen Gewalt – insbesondere gegenüber Kindern – zu ächten.\n\nDer Landtag fordert die Landesregierung auf\, \n\nim Bundesrat eine Gesetzesinitiative einzubringen\, um in den Fällen der Gefährdung des Wohls eines Kindes oder eines Jugendlichen durch Genitalverstümmelung § 226a StGB eine Meldepflicht in § 4 Absatz 3 des Gesetzes zur Kooperation und Information im Kinderschutz für die in Absatz 1 aufgeführten Geheimnisträger einzuführen;\nin den Staatsanwaltschaften landesweit Abteilungen einzurichten\, um Verfahren nach § 226a StGB voranzutreiben und das Dunkelfeld auszuleuchten;\nlokale Meldestellen einzurichten\, die anonym bei (drohenden) Genitalverstümmelungen kontaktiert werden können.\n\n\nMeine Redebeiträge können Sie voraussichtlich um 13:45 Uhr und um 14:10 Uhr im Parlaments-TV verfolgen.
URL:https://thomas-roeckemann.de/veranstaltung/genitalverstuemmelungen-in-nrw-wo-bleibt-die-hilfe/
END:VEVENT
END:VCALENDAR